BEGIN:VCALENDAR
VERSION:2.0
PRODID:KKTIX
CALSCALE:GREGORIAN
METHOD:PUBLISH
BEGIN:VTIMEZONE
TZID:Asia/Taipei
END:VTIMEZONE
BEGIN:VEVENT
DTSTAMP:20260424T135547Z
UID:44ea57ab-4ea4-45df-acc9-9fe794d76d1c
DTSTART:20260531T060000Z
DTEND:20260531T060000Z
CLASS:PUBLIC
DESCRIPTION:https://becometrue.kktix.cc/events/2b1e008b
LOCATION: (台北市萬華區漢中街116號8樓) 西門Westar
SUMMARY:《果實》粉絲見面會
END:VEVENT
END:VCALENDAR
